BEGIN:VCALENDAR
VERSION:2.0
PRODID:-//livinghope1.com - ECPv6.15.16//NONSGML v1.0//EN
CALSCALE:GREGORIAN
METHOD:PUBLISH
X-WR-CALNAME:livinghope1.com
X-ORIGINAL-URL:https://livinghope1.com
X-WR-CALDESC:Events for livinghope1.com
REFRESH-INTERVAL;VALUE=DURATION:PT1H
X-Robots-Tag:noindex
X-PUBLISHED-TTL:PT1H
BEGIN:VTIMEZONE
TZID:America/New_York
BEGIN:DAYLIGHT
TZOFFSETFROM:-0500
TZOFFSETTO:-0400
TZNAME:EDT
DTSTART:20250309T070000
END:DAYLIGHT
BEGIN:STANDARD
TZOFFSETFROM:-0400
TZOFFSETTO:-0500
TZNAME:EST
DTSTART:20251102T060000
END:STANDARD
BEGIN:DAYLIGHT
TZOFFSETFROM:-0500
TZOFFSETTO:-0400
TZNAME:EDT
DTSTART:20260308T070000
END:DAYLIGHT
BEGIN:STANDARD
TZOFFSETFROM:-0400
TZOFFSETTO:-0500
TZNAME:EST
DTSTART:20261101T060000
END:STANDARD
BEGIN:DAYLIGHT
TZOFFSETFROM:-0500
TZOFFSETTO:-0400
TZNAME:EDT
DTSTART:20270314T070000
END:DAYLIGHT
BEGIN:STANDARD
TZOFFSETFROM:-0400
TZOFFSETTO:-0500
TZNAME:EST
DTSTART:20271107T060000
END:STANDARD
END:VTIMEZONE
BEGIN:VEVENT
DTSTART;TZID=America/New_York:20260420T100000
DTEND;TZID=America/New_York:20260420T110000
DTSTAMP:20260420T014338
CREATED:20260113T062455Z
LAST-MODIFIED:20260113T062455Z
UID:10000209-1776679200-1776682800@livinghope1.com
SUMMARY:Life's Storms Group - Gateway
DESCRIPTION:Our Beyond Disaster Group is back for the new year! Join us at Gateway Baptist Church in Lake City each Monday at 10:00 am.\n\n\nLed by trained facilitators\, this group uses the “Beyond Disaster” guide to provide spiritual first aid and practical trauma recovery tools.\nAddress anxiety\, grief\, and trauma reactions while building resilience and finding hope in community.\n\n\n\n Adults 18+\n No registration required\n Questions? Call (386) 302 – 6990
URL:https://livinghope1.com/living-hope-calender-event/lifes-storms-group-gateway/2026-04-20/
LOCATION:Gateway Baptist Church\, 3252 FL-247\, Lake city\, FL\, 32024\, United States
CATEGORIES:Columbia County
ORGANIZER;CN="Project Cope and Living Hope":MAILTO:barbara@livinghope1.com
END:VEVENT
END:VCALENDAR