BEGIN:VCALENDAR
VERSION:2.0
PRODID:-//livinghope1.com - ECPv6.15.16//NONSGML v1.0//EN
CALSCALE:GREGORIAN
METHOD:PUBLISH
X-WR-CALNAME:livinghope1.com
X-ORIGINAL-URL:https://livinghope1.com
X-WR-CALDESC:Events for livinghope1.com
REFRESH-INTERVAL;VALUE=DURATION:PT1H
X-Robots-Tag:noindex
X-PUBLISHED-TTL:PT1H
BEGIN:VTIMEZONE
TZID:America/New_York
BEGIN:DAYLIGHT
TZOFFSETFROM:-0500
TZOFFSETTO:-0400
TZNAME:EDT
DTSTART:20230312T070000
END:DAYLIGHT
BEGIN:STANDARD
TZOFFSETFROM:-0400
TZOFFSETTO:-0500
TZNAME:EST
DTSTART:20231105T060000
END:STANDARD
BEGIN:DAYLIGHT
TZOFFSETFROM:-0500
TZOFFSETTO:-0400
TZNAME:EDT
DTSTART:20240310T070000
END:DAYLIGHT
BEGIN:STANDARD
TZOFFSETFROM:-0400
TZOFFSETTO:-0500
TZNAME:EST
DTSTART:20241103T060000
END:STANDARD
BEGIN:DAYLIGHT
TZOFFSETFROM:-0500
TZOFFSETTO:-0400
TZNAME:EDT
DTSTART:20250309T070000
END:DAYLIGHT
BEGIN:STANDARD
TZOFFSETFROM:-0400
TZOFFSETTO:-0500
TZNAME:EST
DTSTART:20251102T060000
END:STANDARD
END:VTIMEZONE
BEGIN:VEVENT
DTSTART;TZID=America/New_York:20240930T080000
DTEND;TZID=America/New_York:20240930T170000
DTSTAMP:20260419T193235
CREATED:20240910T051953Z
LAST-MODIFIED:20240910T052101Z
UID:10000062-1727683200-1727715600@livinghope1.com
SUMMARY:Suwannee County Food Bank
DESCRIPTION:
URL:https://livinghope1.com/living-hope-calender-event/suwannee-county-food-bank-6/
LOCATION:First Baptist Church\, 401 West Howard Street\, Live Oak\, FL\, 32064\, United States
CATEGORIES:Suwannee County
END:VEVENT
BEGIN:VEVENT
DTSTART;VALUE=DATE:20240925
DTEND;VALUE=DATE:20240926
DTSTAMP:20260419T193235
CREATED:20240910T051919Z
LAST-MODIFIED:20240910T052058Z
UID:10000061-1727222400-1727308799@livinghope1.com
SUMMARY:Suwannee County Food Bank
DESCRIPTION:
URL:https://livinghope1.com/living-hope-calender-event/suwannee-county-food-bank-5/
LOCATION:First Baptist Church\, 401 West Howard Street\, Live Oak\, FL\, 32064\, United States
CATEGORIES:Suwannee County
END:VEVENT
BEGIN:VEVENT
DTSTART;TZID=America/New_York:20240924T120000
DTEND;TZID=America/New_York:20240924T130000
DTSTAMP:20260419T193235
CREATED:20240909T193506Z
LAST-MODIFIED:20240910T060105Z
UID:10000056-1727179200-1727182800@livinghope1.com
SUMMARY:Health and Wellness Series - Prediabetes/Diabetes
DESCRIPTION:
URL:https://livinghope1.com/living-hope-calender-event/health-and-wellness-series-prediabetes-diabetes-3/
LOCATION:Branford Public Library\, 703 Suwannee Ave NW\, Branford\, 32008\, United States
CATEGORIES:Suwannee County
END:VEVENT
BEGIN:VEVENT
DTSTART;TZID=America/New_York:20240923T090000
DTEND;TZID=America/New_York:20240926T130000
DTSTAMP:20260419T193235
CREATED:20240910T054355Z
LAST-MODIFIED:20240910T054932Z
UID:10000089-1727082000-1727355600@livinghope1.com
SUMMARY:Suwannee County Food Bank
DESCRIPTION:
URL:https://livinghope1.com/living-hope-calender-event/suwannee-county-food-bank-33/
LOCATION:LOVE\, INC\, 120 Ohio Ave N.\, Live Oak\, FL\, 32064\, United States
CATEGORIES:Suwannee County
END:VEVENT
BEGIN:VEVENT
DTSTART;VALUE=DATE:20240923
DTEND;VALUE=DATE:20240924
DTSTAMP:20260419T193235
CREATED:20240910T051829Z
LAST-MODIFIED:20240910T052056Z
UID:10000060-1727049600-1727135999@livinghope1.com
SUMMARY:Suwannee County Food Bank
DESCRIPTION:
URL:https://livinghope1.com/living-hope-calender-event/suwannee-county-food-bank-4/
LOCATION:FL
CATEGORIES:Suwannee County
END:VEVENT
BEGIN:VEVENT
DTSTART;TZID=America/New_York:20240921T080000
DTEND;TZID=America/New_York:20240921T113000
DTSTAMP:20260419T193235
CREATED:20240912T031610Z
LAST-MODIFIED:20240912T031610Z
UID:10000113-1726905600-1726918200@livinghope1.com
SUMMARY:Farm Share Food Giveaway
DESCRIPTION:🗓Event Date: Sat\, Sept 21\, 2024\n🚗This is a Drive-Thru event.\n👥Up to 3 families are permitted in each vehicle. For example\, you\, your neighbor\, and someone you know who doesn’t have a vehicle.\n☝️Only one representative from each family is necessary.\n🚼Children of families are NOT required to attend.\n🏠 Household size does not change the amount of food received. A family of 1 will receive the same items as a family of 4.\n🖊️Each family representative will provide their name\, address\, and household size.\nThe line starts behind the Public Safety Building on NW Alachua Ave and continues on NW Washington St to Memorial Stadium overflow lot where vehicles will\nline up in rows.\n☀️Historicily\, attendees have arrived early and started lining up as early as 5am.\nFood distribution begins at 8am and continues until all items are gone.\nAll items are first come first served.\n🚚The kind of items and amounts are unknown until event day. More of some items are received than others.\n⛑️For safety reasons walk-ups are not possible.
URL:https://livinghope1.com/living-hope-calender-event/farm-share-food-giveaway/
LOCATION:Lake City Police Department\, 225 NW Main Blvd\, Lake City\, FL\, 32055\, United States
CATEGORIES:Columbia County
ORGANIZER;CN="Lake City Police Department":MAILTO:HardisonA@lcflapd.com
END:VEVENT
BEGIN:VEVENT
DTSTART;TZID=America/New_York:20240920T090000
DTEND;TZID=America/New_York:20240920T090000
DTSTAMP:20260419T193235
CREATED:20240910T053948Z
LAST-MODIFIED:20240910T053948Z
UID:10000084-1726822800-1726822800@livinghope1.com
SUMMARY:Suwannee County Food Bank
DESCRIPTION:
URL:https://livinghope1.com/living-hope-calender-event/suwannee-county-food-bank-28/
LOCATION:Live Oak African Baptist Church\, 502 Walker Ave\, Live Oak\, FL\, 32064\, United States
CATEGORIES:Suwannee County
END:VEVENT
BEGIN:VEVENT
DTSTART;VALUE=DATE:20240920
DTEND;VALUE=DATE:20240921
DTSTAMP:20260419T193235
CREATED:20240910T060859Z
LAST-MODIFIED:20240910T060910Z
UID:10000104-1726790400-1726876799@livinghope1.com
SUMMARY:Suwannee County Food Bank
DESCRIPTION:No papers required
URL:https://livinghope1.com/living-hope-calender-event/suwannee-county-food-bank-47/
LOCATION:San Juan Missions\, 304 Plant Ave SW\, Branford\, FL\, 32008\, United States
CATEGORIES:Suwannee County
END:VEVENT
BEGIN:VEVENT
DTSTART;TZID=America/New_York:20240919T160000
DTEND;TZID=America/New_York:20240919T160000
DTSTAMP:20260419T193235
CREATED:20240910T061520Z
LAST-MODIFIED:20240910T061520Z
UID:10000110-1726761600-1726761600@livinghope1.com
SUMMARY:Suwannee County Food Bank
DESCRIPTION:
URL:https://livinghope1.com/living-hope-calender-event/suwannee-county-food-bank-53/
LOCATION:Evergreen Baptist Church of God\, 2509 224 St\, Lake City\, FL\, 32024\, United States
CATEGORIES:Suwannee County
END:VEVENT
BEGIN:VEVENT
DTSTART;TZID=America/New_York:20240918T093000
DTEND;TZID=America/New_York:20240918T093000
DTSTAMP:20260419T193235
CREATED:20240910T055648Z
LAST-MODIFIED:20240910T055851Z
UID:10000097-1726651800-1726651800@livinghope1.com
SUMMARY:Suwannee County Food Bank
DESCRIPTION:
URL:https://livinghope1.com/living-hope-calender-event/suwannee-county-food-bank-41/
LOCATION:St. Francis Xavier Catholic Church\, 928 E Howard St.\, Live Oak\, FL\, 32064\, United States
CATEGORIES:Suwannee County
END:VEVENT
BEGIN:VEVENT
DTSTART;VALUE=DATE:20240918
DTEND;VALUE=DATE:20240919
DTSTAMP:20260419T193235
CREATED:20240910T051814Z
LAST-MODIFIED:20240910T052052Z
UID:10000059-1726617600-1726703999@livinghope1.com
SUMMARY:Suwannee County Food Bank
DESCRIPTION:
URL:https://livinghope1.com/living-hope-calender-event/suwannee-county-food-bank-3/
LOCATION:First Baptist Church\, 401 West Howard Street\, Live Oak\, FL\, 32064\, United States
CATEGORIES:Suwannee County
END:VEVENT
BEGIN:VEVENT
DTSTART;TZID=America/New_York:20240917T120000
DTEND;TZID=America/New_York:20240917T130000
DTSTAMP:20260419T193235
CREATED:20240909T192646Z
LAST-MODIFIED:20240909T193109Z
UID:10000053-1726574400-1726578000@livinghope1.com
SUMMARY:Health and Wellness Series - High Cholesterol
DESCRIPTION:
URL:https://livinghope1.com/living-hope-calender-event/health-and-wellness-series-high-cholesterol-2/
LOCATION:Branford Public Library\, 703 Suwannee Ave NW\, Branford\, 32008\, United States
CATEGORIES:Suwannee County
END:VEVENT
BEGIN:VEVENT
DTSTART;TZID=America/New_York:20240917T100000
DTEND;TZID=America/New_York:20240917T130000
DTSTAMP:20260419T193235
CREATED:20240910T061247Z
LAST-MODIFIED:20240910T061247Z
UID:10000107-1726567200-1726578000@livinghope1.com
SUMMARY:Suwannee County Food Bank
DESCRIPTION:
URL:https://livinghope1.com/living-hope-calender-event/suwannee-county-food-bank-50/
LOCATION:O’Brien Baptist Church\, 9544 E CR 349\, O'Brien\, Florida\, 32094\, United States
CATEGORIES:Suwannee County
END:VEVENT
BEGIN:VEVENT
DTSTART;TZID=America/New_York:20240917T090000
DTEND;TZID=America/New_York:20240917T090000
DTSTAMP:20260419T193235
CREATED:20240910T053523Z
LAST-MODIFIED:20240910T053523Z
UID:10000081-1726563600-1726563600@livinghope1.com
SUMMARY:Suwannee County Food Bank
DESCRIPTION:
URL:https://livinghope1.com/living-hope-calender-event/suwannee-county-food-bank-25/
LOCATION:Gethsemane Church of God in Christ\, 1018 Duval St NE\, Live Oak\, FL\, 32064\, United States
CATEGORIES:Suwannee County
END:VEVENT
BEGIN:VEVENT
DTSTART;VALUE=DATE:20240917
DTEND;VALUE=DATE:20240918
DTSTAMP:20260419T193235
CREATED:20240510T191401Z
LAST-MODIFIED:20240510T191401Z
UID:10000012-1726531200-1726617599@livinghope1.com
SUMMARY:Uplift Columbia
DESCRIPTION:
URL:https://livinghope1.com/living-hope-calender-event/uplift-columbia/
LOCATION:The Blanche\, 212 N Marion Ave\, Lake city\, FL\, 32055\, United States
END:VEVENT
BEGIN:VEVENT
DTSTART;TZID=America/New_York:20240916T090000
DTEND;TZID=America/New_York:20240918T130000
DTSTAMP:20260419T193235
CREATED:20240910T054330Z
LAST-MODIFIED:20240910T054449Z
UID:10000088-1726477200-1726664400@livinghope1.com
SUMMARY:Suwannee County Food Bank
DESCRIPTION:
URL:https://livinghope1.com/living-hope-calender-event/suwannee-county-food-bank-32/
LOCATION:LOVE\, INC\, 120 Ohio Ave N.\, Live Oak\, FL\, 32064\, United States
CATEGORIES:Suwannee County
END:VEVENT
BEGIN:VEVENT
DTSTART;VALUE=DATE:20240916
DTEND;VALUE=DATE:20240917
DTSTAMP:20260419T193235
CREATED:20240910T051746Z
LAST-MODIFIED:20240910T052107Z
UID:10000058-1726444800-1726531199@livinghope1.com
SUMMARY:Suwannee County Food Bank
DESCRIPTION:
URL:https://livinghope1.com/living-hope-calender-event/suwannee-county-food-bank-2/
LOCATION:First Baptist Church\, 401 West Howard Street\, Live Oak\, FL\, 32064\, United States
CATEGORIES:Suwannee County
END:VEVENT
BEGIN:VEVENT
DTSTART;TZID=America/New_York:20240912T080000
DTEND;TZID=America/New_York:20240912T170000
DTSTAMP:20260419T193235
CREATED:20240910T060420Z
LAST-MODIFIED:20240910T060426Z
UID:10000100-1726128000-1726160400@livinghope1.com
SUMMARY:Suwannee County Food Bank
DESCRIPTION:For Suwannee County and Columbia County residents only
URL:https://livinghope1.com/living-hope-calender-event/1672/
LOCATION:Worship Center\, 26471 State Rd. 247\, Branford\, FL\, 32008\, United States
CATEGORIES:Suwannee County
END:VEVENT
BEGIN:VEVENT
DTSTART;TZID=America/New_York:20240911T110000
DTEND;TZID=America/New_York:20240911T110000
DTSTAMP:20260419T193235
CREATED:20240910T060546Z
LAST-MODIFIED:20240910T060606Z
UID:10000101-1726052400-1726052400@livinghope1.com
SUMMARY:Suwannee County Food Bank
DESCRIPTION:$7 donation requested – Please Bring your own basket
URL:https://livinghope1.com/living-hope-calender-event/suwannee-county-food-bank-44/
LOCATION:Children’s Table Bus @ Lebanon\, 6114 280th St\, Branford\, FL\, 32008\, United States
CATEGORIES:Suwannee County
END:VEVENT
BEGIN:VEVENT
DTSTART;TZID=America/New_York:20240911T080000
DTEND;TZID=America/New_York:20240911T170000
DTSTAMP:20260419T193235
CREATED:20240910T051702Z
LAST-MODIFIED:20240910T052105Z
UID:10000057-1726041600-1726074000@livinghope1.com
SUMMARY:Suwannee County Food Bank
DESCRIPTION:
URL:https://livinghope1.com/living-hope-calender-event/suwannee-county-food-bank/
LOCATION:First Baptist Church\, 401 West Howard Street\, Live Oak\, FL\, 32064\, United States
CATEGORIES:Suwannee County
END:VEVENT
BEGIN:VEVENT
DTSTART;TZID=America/New_York:20240910T120000
DTEND;TZID=America/New_York:20240910T130000
DTSTAMP:20260419T193235
CREATED:20240909T182837Z
LAST-MODIFIED:20240909T193126Z
UID:10000052-1725969600-1725973200@livinghope1.com
SUMMARY:Health and Wellness Series - High Blood Pressure
DESCRIPTION:
URL:https://livinghope1.com/living-hope-calender-event/health-and-wellness-series-high-blood-pressure-3/
LOCATION:Branford Public Library\, 703 Suwannee Ave NW\, Branford\, 32008\, United States
CATEGORIES:Suwannee County
END:VEVENT
BEGIN:VEVENT
DTSTART;TZID=America/New_York:20240909T090000
DTEND;TZID=America/New_York:20240912T130000
DTSTAMP:20260419T193235
CREATED:20240910T054240Z
LAST-MODIFIED:20240910T054240Z
UID:10000087-1725872400-1726146000@livinghope1.com
SUMMARY:Suwannee County Food Bank
DESCRIPTION:
URL:https://livinghope1.com/living-hope-calender-event/suwannee-county-food-bank-31/
LOCATION:LOVE\, INC\, 120 Ohio Ave N.\, Live Oak\, FL\, 32064\, United States
CATEGORIES:Suwannee County
END:VEVENT
BEGIN:VEVENT
DTSTART;VALUE=DATE:20240731
DTEND;VALUE=DATE:20240803
DTSTAMP:20260419T193235
CREATED:20240608T002449Z
LAST-MODIFIED:20240608T002449Z
UID:10000042-1722384000-1722643199@livinghope1.com
SUMMARY:Suwannee County 4-H 2024 Day Camp - Dig In Camp
DESCRIPTION:Ages: 10 to 14
URL:https://livinghope1.com/living-hope-calender-event/suwannee-county-4-h-2024-day-camp-dig-in-camp/
LOCATION:FL
ATTACH;FMTTYPE=image/jpeg:https://livinghope1.com/wp-content/uploads/2024/06/447693247_122129001398261078_7091253336026697674_n.jpg
END:VEVENT
BEGIN:VEVENT
DTSTART;TZID=America/New_York:20240728T180000
DTEND;TZID=America/New_York:20240731T200000
DTSTAMP:20260419T193235
CREATED:20240603T175125Z
LAST-MODIFIED:20240603T175125Z
UID:10000029-1722189600-1722456000@livinghope1.com
SUMMARY:VBS - Mt. Carmel Baptist Church
DESCRIPTION:Theme: Breaker Rock Beach | Register at: mcbclakecity.com/vbs
URL:https://livinghope1.com/living-hope-calender-event/vbs-mt-carmel-baptist-church/
LOCATION:Mt. Carmel Baptist Church\, 1205 SW Mount Carmel Ave\, Lake city\, FL\, 32024\, United States
CATEGORIES:Columbia County
END:VEVENT
BEGIN:VEVENT
DTSTART;VALUE=DATE:20240725
DTEND;VALUE=DATE:20240726
DTSTAMP:20260419T193235
CREATED:20240510T191322Z
LAST-MODIFIED:20240510T191322Z
UID:10000011-1721865600-1721951999@livinghope1.com
SUMMARY:Uplift Suwannee Hamilton
DESCRIPTION:
URL:https://livinghope1.com/living-hope-calender-event/uplift-suwannee-hamilton/
LOCATION:FL
END:VEVENT
BEGIN:VEVENT
DTSTART;TZID=America/New_York:20240721T180000
DTEND;TZID=America/New_York:20240725T203000
DTSTAMP:20260419T193235
CREATED:20240603T174715Z
LAST-MODIFIED:20240603T174715Z
UID:10000028-1721584800-1721939400@livinghope1.com
SUMMARY:VBS - Elim Baptist Church
DESCRIPTION:Pre-K-6th Grade | Theme: Breaker Rock Beach
URL:https://livinghope1.com/living-hope-calender-event/vbs-elim-baptist-church/
LOCATION:Elim Baptist Church\, 3435 SW Elim Church Rd\, Fort White\, FL\, 32038\, United States
END:VEVENT
BEGIN:VEVENT
DTSTART;VALUE=DATE:20240715
DTEND;VALUE=DATE:20240720
DTSTAMP:20260419T193235
CREATED:20240608T002242Z
LAST-MODIFIED:20240608T002242Z
UID:10000041-1721001600-1721433599@livinghope1.com
SUMMARY:Suwannee County 4-H 2024 Day Camp - Quilt in a Week Camp
DESCRIPTION:Ages: 10 – 18
URL:https://livinghope1.com/living-hope-calender-event/suwannee-county-4-h-2024-day-camp-quilt-in-a-week-camp/
LOCATION:FL
ATTACH;FMTTYPE=image/jpeg:https://livinghope1.com/wp-content/uploads/2024/06/447693247_122129001398261078_7091253336026697674_n.jpg
END:VEVENT
BEGIN:VEVENT
DTSTART;TZID=America/New_York:20240714T173000
DTEND;TZID=America/New_York:20240719T203000
DTSTAMP:20260419T193235
CREATED:20240603T174204Z
LAST-MODIFIED:20240603T174919Z
UID:10000026-1720978200-1721421000@livinghope1.com
SUMMARY:VBS - Pine Grove Baptist Church
DESCRIPTION:Theme: Breaker Rock Beach
URL:https://livinghope1.com/living-hope-calender-event/vbs-pine-grove-baptist-church/
LOCATION:Pine Grove Baptist Church\, 1989 US-441\, Lake city\, FL\, 32055\, United States
CATEGORIES:Columbia County
END:VEVENT
BEGIN:VEVENT
DTSTART;VALUE=DATE:20240713
DTEND;VALUE=DATE:20240714
DTSTAMP:20260419T193235
CREATED:20240510T191258Z
LAST-MODIFIED:20240510T191258Z
UID:10000010-1720828800-1720915199@livinghope1.com
SUMMARY:Hamilton Unity in the Community
DESCRIPTION:
URL:https://livinghope1.com/living-hope-calender-event/hamilton-unity-in-the-community/
LOCATION:FL
END:VEVENT
BEGIN:VEVENT
DTSTART;TZID=America/New_York:20240708T153000
DTEND;TZID=America/New_York:20240708T163000
DTSTAMP:20260419T193235
CREATED:20240603T171736Z
LAST-MODIFIED:20240603T171736Z
UID:10000020-1720452600-1720456200@livinghope1.com
SUMMARY:Children's Program - Family Storytime
DESCRIPTION:
URL:https://livinghope1.com/living-hope-calender-event/childrens-program-family-storytime-6/
LOCATION:Columbia County Library\, 308 NW Columbia Ave\, Lake city\, FL\, 32055\, United States
END:VEVENT
END:VCALENDAR