BEGIN:VCALENDAR
VERSION:2.0
PRODID:-//livinghope1.com - ECPv6.15.16//NONSGML v1.0//EN
CALSCALE:GREGORIAN
METHOD:PUBLISH
X-WR-CALNAME:livinghope1.com
X-ORIGINAL-URL:https://livinghope1.com
X-WR-CALDESC:Events for livinghope1.com
REFRESH-INTERVAL;VALUE=DURATION:PT1H
X-Robots-Tag:noindex
X-PUBLISHED-TTL:PT1H
BEGIN:VTIMEZONE
TZID:UTC
BEGIN:STANDARD
TZOFFSETFROM:+0000
TZOFFSETTO:+0000
TZNAME:UTC
DTSTART:20230101T000000
END:STANDARD
END:VTIMEZONE
BEGIN:VEVENT
DTSTART;TZID=UTC:20240120T140000
DTEND;TZID=UTC:20240120T170000
DTSTAMP:20260420T045921
CREATED:20240106T083522Z
LAST-MODIFIED:20240106T083522Z
UID:10000001-1705759200-1705770000@livinghope1.com
SUMMARY:Game Day at FGC
DESCRIPTION:Community game day for all\nPlease join us for pool\, ping pong\, board games\, and more! \nMinors must be accompanied by an adult
URL:https://livinghope1.com/living-hope-calender-event/game-day-at-fgc/
LOCATION:Florida Gateway College\, 149 SE College Pl\, Lake City\, FL\, 32025\, United States
ATTACH;FMTTYPE=image/jpeg:https://livinghope1.com/wp-content/uploads/2024/01/IMG_0014-1.jpg
ORGANIZER;CN="Project Cope and Living Hope":MAILTO:barbara@livinghope1.com
END:VEVENT
BEGIN:VEVENT
DTSTART;TZID=UTC:20240119T170000
DTEND;TZID=UTC:20240119T190000
DTSTAMP:20260420T045921
CREATED:20240106T094130Z
LAST-MODIFIED:20240106T094130Z
UID:10000007-1705683600-1705690800@livinghope1.com
SUMMARY:Faith Friday
DESCRIPTION:
URL:https://livinghope1.com/living-hope-calender-event/faith-friday/
LOCATION:Florida Gateway College\, 149 SE College Pl\, Lake City\, FL\, 32025\, United States
END:VEVENT
BEGIN:VEVENT
DTSTART;TZID=UTC:20240116T120000
DTEND;TZID=UTC:20240116T120000
DTSTAMP:20260420T045921
CREATED:20240106T092655Z
LAST-MODIFIED:20240106T092655Z
UID:10000006-1705406400-1705406400@livinghope1.com
SUMMARY:Listening Session Uplift Suawnnee
DESCRIPTION:Inviting Pastors and faith leaders in the\nSuwannee County area who are seeking\nto bring support to their community
URL:https://livinghope1.com/living-hope-calender-event/listening-session-uplift-suawnnee/
LOCATION:Live Oak Sub Shop\, 511 Ohio Avenue S\, Live Oak\, FL\, 32064\, United States
ATTACH;FMTTYPE=image/jpeg:https://livinghope1.com/wp-content/uploads/2024/01/uplift-listening-session-suwannee-scaled.jpg
ORGANIZER;CN="Uplift Communities":MAILTO:uplift@lsfnet.org
END:VEVENT
BEGIN:VEVENT
DTSTART;VALUE=DATE:20240112
DTEND;VALUE=DATE:20240113
DTSTAMP:20260420T045921
CREATED:20240106T092050Z
LAST-MODIFIED:20240106T092050Z
UID:10000005-1705017600-1705103999@livinghope1.com
SUMMARY:Vessels Student Christian Club After School
DESCRIPTION:
URL:https://livinghope1.com/living-hope-calender-event/vessels-student-christian-club-after-school/
LOCATION:FL
END:VEVENT
BEGIN:VEVENT
DTSTART;VALUE=DATE:20240110
DTEND;VALUE=DATE:20240111
DTSTAMP:20260420T045921
CREATED:20240106T091448Z
LAST-MODIFIED:20240106T091448Z
UID:10000004-1704844800-1704931199@livinghope1.com
SUMMARY:Uplift Hamilton Planning meeting
DESCRIPTION:
URL:https://livinghope1.com/living-hope-calender-event/uplift-hamilton-planning-meeting/
LOCATION:FL
END:VEVENT
BEGIN:VEVENT
DTSTART;TZID=UTC:20240109T170000
DTEND;TZID=UTC:20240109T170000
DTSTAMP:20260420T045921
CREATED:20240106T091239Z
LAST-MODIFIED:20240106T091239Z
UID:10000003-1704819600-1704819600@livinghope1.com
SUMMARY:Living Hope Members and Youth Advisory Council Meeting
DESCRIPTION:
URL:https://livinghope1.com/living-hope-calender-event/living-hope-members-and-youth-advisory-council-meeting/
LOCATION:The Blanche\, 212 N Marion Ave\, Lake city\, FL\, 32055\, United States
END:VEVENT
BEGIN:VEVENT
DTSTART;TZID=UTC:20240109T153000
DTEND;TZID=UTC:20240109T153000
DTSTAMP:20260420T045921
CREATED:20240106T091027Z
LAST-MODIFIED:20240106T092734Z
UID:10000002-1704814200-1704814200@livinghope1.com
SUMMARY:Uplift Columbia Meeting
DESCRIPTION:In person at the Blanche or on Zoom
URL:https://livinghope1.com/living-hope-calender-event/uplift-columbia-meeting/
LOCATION:The Blanche\, 212 N Marion Ave\, Lake city\, FL\, 32055\, United States
END:VEVENT
END:VCALENDAR