BEGIN:VCALENDAR
VERSION:2.0
PRODID:-//livinghope1.com - ECPv6.15.16//NONSGML v1.0//EN
CALSCALE:GREGORIAN
METHOD:PUBLISH
X-ORIGINAL-URL:https://livinghope1.com
X-WR-CALDESC:Events for livinghope1.com
REFRESH-INTERVAL;VALUE=DURATION:PT1H
X-Robots-Tag:noindex
X-PUBLISHED-TTL:PT1H
BEGIN:VTIMEZONE
TZID:America/New_York
BEGIN:DAYLIGHT
TZOFFSETFROM:-0500
TZOFFSETTO:-0400
TZNAME:EDT
DTSTART:20230312T070000
END:DAYLIGHT
BEGIN:STANDARD
TZOFFSETFROM:-0400
TZOFFSETTO:-0500
TZNAME:EST
DTSTART:20231105T060000
END:STANDARD
BEGIN:DAYLIGHT
TZOFFSETFROM:-0500
TZOFFSETTO:-0400
TZNAME:EDT
DTSTART:20240310T070000
END:DAYLIGHT
BEGIN:STANDARD
TZOFFSETFROM:-0400
TZOFFSETTO:-0500
TZNAME:EST
DTSTART:20241103T060000
END:STANDARD
BEGIN:DAYLIGHT
TZOFFSETFROM:-0500
TZOFFSETTO:-0400
TZNAME:EDT
DTSTART:20250309T070000
END:DAYLIGHT
BEGIN:STANDARD
TZOFFSETFROM:-0400
TZOFFSETTO:-0500
TZNAME:EST
DTSTART:20251102T060000
END:STANDARD
BEGIN:DAYLIGHT
TZOFFSETFROM:-0500
TZOFFSETTO:-0400
TZNAME:EDT
DTSTART:20260308T070000
END:DAYLIGHT
BEGIN:STANDARD
TZOFFSETFROM:-0400
TZOFFSETTO:-0500
TZNAME:EST
DTSTART:20261101T060000
END:STANDARD
BEGIN:DAYLIGHT
TZOFFSETFROM:-0500
TZOFFSETTO:-0400
TZNAME:EDT
DTSTART:20270314T070000
END:DAYLIGHT
BEGIN:STANDARD
TZOFFSETFROM:-0400
TZOFFSETTO:-0500
TZNAME:EST
DTSTART:20271107T060000
END:STANDARD
END:VTIMEZONE
BEGIN:VEVENT
DTSTART;TZID=America/New_York:20260205T173000
DTEND;TZID=America/New_York:20260205T183000
DTSTAMP:20260419T100300
CREATED:20260113T055112Z
LAST-MODIFIED:20260113T061257Z
UID:10000191-1770312600-1770316200@livinghope1.com
SUMMARY:TRAUMA RESILIENCE GROUP - Parkview
DESCRIPTION:Our Trauma Resilience Group is meeting at Parkview Baptist Church in Lake City on Thursdays at 5:45 pm.\n\n\nA group meets together in a safe place\, where they can help each other heal. The group is led by a trained facilitator with our proven curriculum that’s been used for over 20 years in 150 countries. Over 400\,000 people have participated in a Healing Group. The group lessons use art\, stories\, activities\, and discussion questions to help people engage deeply with themselves\, with God\, and with each other. \n\n\n\n\n\n Every Thursday\n 5:45 PM – 6:45 PM\n Adults 18+\n Questions? Call (386) 302 – 6990
URL:https://livinghope1.com/living-hope-calender-event/trauma-resilience-group/2026-02-05/
LOCATION:Parkview Baptist Church\, 268 NW Lake Jeffery Rd\, Lake city\, FL\, 32055\, United States
ORGANIZER;CN="Living Hope":MAILTO:natalie@livinghope1.com
END:VEVENT
BEGIN:VEVENT
DTSTART;TZID=America/New_York:20260204T100000
DTEND;TZID=America/New_York:20260204T230000
DTSTAMP:20260419T100300
CREATED:20260113T052414Z
LAST-MODIFIED:20260113T053532Z
UID:10000180-1770199200-1770246000@livinghope1.com
SUMMARY:Life's Storm Group
DESCRIPTION:Our Beyond Disaster Group in Lake City is back for the new year! Join us at Church on The Way in Lake City each Thursday at 5:45 pm.\n\n\nLed by trained facilitators\, this group uses the “Beyond Disaster” guide to provide spiritual first aid and practical trauma recovery tools. Address anxiety\, grief\, and trauma reactions while building resilience and finding hope in community.\n\n\nCan’t get to the group in Lake City\, we have additional groups starting soon! Click here: www.livinghope1.com/cope-groups\n\n\n Every Wednesday\n 10:00 AM – 11:00 AM\n Adults 18+\n No registration required\n Questions? Call (386) 302 – 6990
URL:https://livinghope1.com/living-hope-calender-event/lifes-storm-group/2026-02-04/
LOCATION:Church on The Way\, 196 SE James Ave\, Lake City\, FL\, 32025\, United States
CATEGORIES:Columbia County
ORGANIZER;CN="Project Cope and Living Hope":MAILTO:barbara@livinghope1.com
END:VEVENT
BEGIN:VEVENT
DTSTART;TZID=America/New_York:20260202T100000
DTEND;TZID=America/New_York:20260202T110000
DTSTAMP:20260419T100300
CREATED:20260113T062455Z
LAST-MODIFIED:20260113T062455Z
UID:10000198-1770026400-1770030000@livinghope1.com
SUMMARY:Life's Storms Group - Gateway
DESCRIPTION:Our Beyond Disaster Group is back for the new year! Join us at Gateway Baptist Church in Lake City each Monday at 10:00 am.\n\n\nLed by trained facilitators\, this group uses the “Beyond Disaster” guide to provide spiritual first aid and practical trauma recovery tools.\nAddress anxiety\, grief\, and trauma reactions while building resilience and finding hope in community.\n\n\n\n Adults 18+\n No registration required\n Questions? Call (386) 302 – 6990
URL:https://livinghope1.com/living-hope-calender-event/lifes-storms-group-gateway/2026-02-02/
LOCATION:Gateway Baptist Church\, 3252 FL-247\, Lake city\, FL\, 32024\, United States
CATEGORIES:Columbia County
ORGANIZER;CN="Project Cope and Living Hope":MAILTO:barbara@livinghope1.com
END:VEVENT
BEGIN:VEVENT
DTSTART;TZID=America/New_York:20260129T174500
DTEND;TZID=America/New_York:20260129T184500
DTSTAMP:20260419T100300
CREATED:20260113T051032Z
LAST-MODIFIED:20260113T054059Z
UID:10000116-1769708700-1769712300@livinghope1.com
SUMMARY:Life's Storms Group - Mayo
DESCRIPTION:Our Beyond Disaster Group in Mayo is back for the new year! Join us at Bethel Creek Baptist Church in Mayo each Thursday at 5:45 pm.\n\n\nLed by trained facilitators\, this group uses the “Beyond Disaster” guide to provide spiritual first aid and practical trauma recovery tools. Address anxiety\, grief\, and trauma reactions while building resilience and finding hope in community.\n\n\nCan’t get to the group in Mayo\, we have a group in Lake City\, and additional groups starting soon! Click here: www.livinghope1.com/cope-groups\n\n\n Every Thursday\n 5:45 PM – 6:45 PM\n Bethel Creek Baptist Church (8945 County Rd 53\, Mayo\, FL)\n Adults 18+\n No registration required\n Questions? Call (386) 302 – 6990
URL:https://livinghope1.com/living-hope-calender-event/lifes-storms-group/2026-01-29/
LOCATION:FL
CATEGORIES:Lafayette County
ORGANIZER;CN="Project Cope and Living Hope":MAILTO:barbara@livinghope1.com
END:VEVENT
BEGIN:VEVENT
DTSTART;TZID=America/New_York:20260129T173000
DTEND;TZID=America/New_York:20260129T183000
DTSTAMP:20260419T100300
CREATED:20260113T055112Z
LAST-MODIFIED:20260113T061257Z
UID:10000190-1769707800-1769711400@livinghope1.com
SUMMARY:TRAUMA RESILIENCE GROUP - Parkview
DESCRIPTION:Our Trauma Resilience Group is meeting at Parkview Baptist Church in Lake City on Thursdays at 5:45 pm.\n\n\nA group meets together in a safe place\, where they can help each other heal. The group is led by a trained facilitator with our proven curriculum that’s been used for over 20 years in 150 countries. Over 400\,000 people have participated in a Healing Group. The group lessons use art\, stories\, activities\, and discussion questions to help people engage deeply with themselves\, with God\, and with each other. \n\n\n\n\n\n Every Thursday\n 5:45 PM – 6:45 PM\n Adults 18+\n Questions? Call (386) 302 – 6990
URL:https://livinghope1.com/living-hope-calender-event/trauma-resilience-group/2026-01-29/
LOCATION:Parkview Baptist Church\, 268 NW Lake Jeffery Rd\, Lake city\, FL\, 32055\, United States
ORGANIZER;CN="Living Hope":MAILTO:natalie@livinghope1.com
END:VEVENT
BEGIN:VEVENT
DTSTART;TZID=America/New_York:20260128T100000
DTEND;TZID=America/New_York:20260128T230000
DTSTAMP:20260419T100300
CREATED:20260113T061908Z
LAST-MODIFIED:20260113T061908Z
UID:10000196-1769594400-1769641200@livinghope1.com
SUMMARY:Stress/Energy Workshop - Senior Center
DESCRIPTION:More info Coming Soon
URL:https://livinghope1.com/living-hope-calender-event/stress-energy-workshop-senior-center/
LOCATION:FL
CATEGORIES:Columbia County
ORGANIZER;CN="Living Hope":MAILTO:natalie@livinghope1.com
END:VEVENT
BEGIN:VEVENT
DTSTART;TZID=America/New_York:20260128T100000
DTEND;TZID=America/New_York:20260128T230000
DTSTAMP:20260419T100300
CREATED:20260113T052414Z
LAST-MODIFIED:20260113T053532Z
UID:10000179-1769594400-1769641200@livinghope1.com
SUMMARY:Life's Storm Group
DESCRIPTION:Our Beyond Disaster Group in Lake City is back for the new year! Join us at Church on The Way in Lake City each Thursday at 5:45 pm.\n\n\nLed by trained facilitators\, this group uses the “Beyond Disaster” guide to provide spiritual first aid and practical trauma recovery tools. Address anxiety\, grief\, and trauma reactions while building resilience and finding hope in community.\n\n\nCan’t get to the group in Lake City\, we have additional groups starting soon! Click here: www.livinghope1.com/cope-groups\n\n\n Every Wednesday\n 10:00 AM – 11:00 AM\n Adults 18+\n No registration required\n Questions? Call (386) 302 – 6990
URL:https://livinghope1.com/living-hope-calender-event/lifes-storm-group/2026-01-28/
LOCATION:Church on The Way\, 196 SE James Ave\, Lake City\, FL\, 32025\, United States
CATEGORIES:Columbia County
ORGANIZER;CN="Project Cope and Living Hope":MAILTO:barbara@livinghope1.com
END:VEVENT
BEGIN:VEVENT
DTSTART;TZID=America/New_York:20260126T173000
DTEND;TZID=America/New_York:20260126T183000
DTSTAMP:20260419T100300
CREATED:20260113T061730Z
LAST-MODIFIED:20260113T061730Z
UID:10000195-1769448600-1769452200@livinghope1.com
SUMMARY:Stories of Hope
DESCRIPTION:More info coming soon!
URL:https://livinghope1.com/living-hope-calender-event/stories-of-hope/
LOCATION:Heritage Church\, 159 SW Hudson Ln\, Lake City\, FL\, 32025\, United States
CATEGORIES:Columbia County
ORGANIZER;CN="Living Hope":MAILTO:natalie@livinghope1.com
END:VEVENT
BEGIN:VEVENT
DTSTART;TZID=America/New_York:20260126T100000
DTEND;TZID=America/New_York:20260126T110000
DTSTAMP:20260419T100300
CREATED:20260113T062455Z
LAST-MODIFIED:20260113T062455Z
UID:10000197-1769421600-1769425200@livinghope1.com
SUMMARY:Life's Storms Group - Gateway
DESCRIPTION:Our Beyond Disaster Group is back for the new year! Join us at Gateway Baptist Church in Lake City each Monday at 10:00 am.\n\n\nLed by trained facilitators\, this group uses the “Beyond Disaster” guide to provide spiritual first aid and practical trauma recovery tools.\nAddress anxiety\, grief\, and trauma reactions while building resilience and finding hope in community.\n\n\n\n Adults 18+\n No registration required\n Questions? Call (386) 302 – 6990
URL:https://livinghope1.com/living-hope-calender-event/lifes-storms-group-gateway/2026-01-26/
LOCATION:Gateway Baptist Church\, 3252 FL-247\, Lake city\, FL\, 32024\, United States
CATEGORIES:Columbia County
ORGANIZER;CN="Project Cope and Living Hope":MAILTO:barbara@livinghope1.com
END:VEVENT
BEGIN:VEVENT
DTSTART;TZID=America/New_York:20260122T174500
DTEND;TZID=America/New_York:20260122T184500
DTSTAMP:20260419T100300
CREATED:20260113T051032Z
LAST-MODIFIED:20260113T054059Z
UID:10000115-1769103900-1769107500@livinghope1.com
SUMMARY:Life's Storms Group - Mayo
DESCRIPTION:Our Beyond Disaster Group in Mayo is back for the new year! Join us at Bethel Creek Baptist Church in Mayo each Thursday at 5:45 pm.\n\n\nLed by trained facilitators\, this group uses the “Beyond Disaster” guide to provide spiritual first aid and practical trauma recovery tools. Address anxiety\, grief\, and trauma reactions while building resilience and finding hope in community.\n\n\nCan’t get to the group in Mayo\, we have a group in Lake City\, and additional groups starting soon! Click here: www.livinghope1.com/cope-groups\n\n\n Every Thursday\n 5:45 PM – 6:45 PM\n Bethel Creek Baptist Church (8945 County Rd 53\, Mayo\, FL)\n Adults 18+\n No registration required\n Questions? Call (386) 302 – 6990
URL:https://livinghope1.com/living-hope-calender-event/lifes-storms-group/2026-01-22/
LOCATION:FL
CATEGORIES:Lafayette County
ORGANIZER;CN="Project Cope and Living Hope":MAILTO:barbara@livinghope1.com
END:VEVENT
BEGIN:VEVENT
DTSTART;TZID=America/New_York:20260122T173000
DTEND;TZID=America/New_York:20260122T183000
DTSTAMP:20260419T100300
CREATED:20260113T055112Z
LAST-MODIFIED:20260113T061257Z
UID:10000189-1769103000-1769106600@livinghope1.com
SUMMARY:TRAUMA RESILIENCE GROUP - Parkview
DESCRIPTION:Our Trauma Resilience Group is meeting at Parkview Baptist Church in Lake City on Thursdays at 5:45 pm.\n\n\nA group meets together in a safe place\, where they can help each other heal. The group is led by a trained facilitator with our proven curriculum that’s been used for over 20 years in 150 countries. Over 400\,000 people have participated in a Healing Group. The group lessons use art\, stories\, activities\, and discussion questions to help people engage deeply with themselves\, with God\, and with each other. \n\n\n\n\n\n Every Thursday\n 5:45 PM – 6:45 PM\n Adults 18+\n Questions? Call (386) 302 – 6990
URL:https://livinghope1.com/living-hope-calender-event/trauma-resilience-group/2026-01-22/
LOCATION:Parkview Baptist Church\, 268 NW Lake Jeffery Rd\, Lake city\, FL\, 32055\, United States
ORGANIZER;CN="Living Hope":MAILTO:natalie@livinghope1.com
END:VEVENT
BEGIN:VEVENT
DTSTART;TZID=America/New_York:20260121T100000
DTEND;TZID=America/New_York:20260121T230000
DTSTAMP:20260419T100300
CREATED:20260113T052414Z
LAST-MODIFIED:20260113T053532Z
UID:10000178-1768989600-1769036400@livinghope1.com
SUMMARY:Life's Storm Group
DESCRIPTION:Our Beyond Disaster Group in Lake City is back for the new year! Join us at Church on The Way in Lake City each Thursday at 5:45 pm.\n\n\nLed by trained facilitators\, this group uses the “Beyond Disaster” guide to provide spiritual first aid and practical trauma recovery tools. Address anxiety\, grief\, and trauma reactions while building resilience and finding hope in community.\n\n\nCan’t get to the group in Lake City\, we have additional groups starting soon! Click here: www.livinghope1.com/cope-groups\n\n\n Every Wednesday\n 10:00 AM – 11:00 AM\n Adults 18+\n No registration required\n Questions? Call (386) 302 – 6990
URL:https://livinghope1.com/living-hope-calender-event/lifes-storm-group/2026-01-21/
LOCATION:Church on The Way\, 196 SE James Ave\, Lake City\, FL\, 32025\, United States
CATEGORIES:Columbia County
ORGANIZER;CN="Project Cope and Living Hope":MAILTO:barbara@livinghope1.com
END:VEVENT
BEGIN:VEVENT
DTSTART;TZID=America/New_York:20260115T174500
DTEND;TZID=America/New_York:20260115T184500
DTSTAMP:20260419T100300
CREATED:20260113T051032Z
LAST-MODIFIED:20260113T054059Z
UID:10000114-1768499100-1768502700@livinghope1.com
SUMMARY:Life's Storms Group - Mayo
DESCRIPTION:Our Beyond Disaster Group in Mayo is back for the new year! Join us at Bethel Creek Baptist Church in Mayo each Thursday at 5:45 pm.\n\n\nLed by trained facilitators\, this group uses the “Beyond Disaster” guide to provide spiritual first aid and practical trauma recovery tools. Address anxiety\, grief\, and trauma reactions while building resilience and finding hope in community.\n\n\nCan’t get to the group in Mayo\, we have a group in Lake City\, and additional groups starting soon! Click here: www.livinghope1.com/cope-groups\n\n\n Every Thursday\n 5:45 PM – 6:45 PM\n Bethel Creek Baptist Church (8945 County Rd 53\, Mayo\, FL)\n Adults 18+\n No registration required\n Questions? Call (386) 302 – 6990
URL:https://livinghope1.com/living-hope-calender-event/lifes-storms-group/2026-01-15/
LOCATION:FL
CATEGORIES:Lafayette County
ORGANIZER;CN="Project Cope and Living Hope":MAILTO:barbara@livinghope1.com
END:VEVENT
BEGIN:VEVENT
DTSTART;TZID=America/New_York:20260115T173000
DTEND;TZID=America/New_York:20260115T183000
DTSTAMP:20260419T100300
CREATED:20260113T055112Z
LAST-MODIFIED:20260113T061257Z
UID:10000188-1768498200-1768501800@livinghope1.com
SUMMARY:TRAUMA RESILIENCE GROUP - Parkview
DESCRIPTION:Our Trauma Resilience Group is meeting at Parkview Baptist Church in Lake City on Thursdays at 5:45 pm.\n\n\nA group meets together in a safe place\, where they can help each other heal. The group is led by a trained facilitator with our proven curriculum that’s been used for over 20 years in 150 countries. Over 400\,000 people have participated in a Healing Group. The group lessons use art\, stories\, activities\, and discussion questions to help people engage deeply with themselves\, with God\, and with each other. \n\n\n\n\n\n Every Thursday\n 5:45 PM – 6:45 PM\n Adults 18+\n Questions? Call (386) 302 – 6990
URL:https://livinghope1.com/living-hope-calender-event/trauma-resilience-group/2026-01-15/
LOCATION:Parkview Baptist Church\, 268 NW Lake Jeffery Rd\, Lake city\, FL\, 32055\, United States
ORGANIZER;CN="Living Hope":MAILTO:natalie@livinghope1.com
END:VEVENT
BEGIN:VEVENT
DTSTART;TZID=America/New_York:20260114T100000
DTEND;TZID=America/New_York:20260114T230000
DTSTAMP:20260419T100300
CREATED:20260113T052414Z
LAST-MODIFIED:20260113T053532Z
UID:10000177-1768384800-1768431600@livinghope1.com
SUMMARY:Life's Storm Group
DESCRIPTION:Our Beyond Disaster Group in Lake City is back for the new year! Join us at Church on The Way in Lake City each Thursday at 5:45 pm.\n\n\nLed by trained facilitators\, this group uses the “Beyond Disaster” guide to provide spiritual first aid and practical trauma recovery tools. Address anxiety\, grief\, and trauma reactions while building resilience and finding hope in community.\n\n\nCan’t get to the group in Lake City\, we have additional groups starting soon! Click here: www.livinghope1.com/cope-groups\n\n\n Every Wednesday\n 10:00 AM – 11:00 AM\n Adults 18+\n No registration required\n Questions? Call (386) 302 – 6990
URL:https://livinghope1.com/living-hope-calender-event/lifes-storm-group/2026-01-14/
LOCATION:Church on The Way\, 196 SE James Ave\, Lake City\, FL\, 32025\, United States
CATEGORIES:Columbia County
ORGANIZER;CN="Project Cope and Living Hope":MAILTO:barbara@livinghope1.com
END:VEVENT
BEGIN:VEVENT
DTSTART;VALUE=DATE:20241127
DTEND;VALUE=DATE:20241128
DTSTAMP:20260419T100300
CREATED:20240910T053338Z
LAST-MODIFIED:20240910T053338Z
UID:10000080-1732665600-1732751999@livinghope1.com
SUMMARY:Suwannee County Food Bank
DESCRIPTION:
URL:https://livinghope1.com/living-hope-calender-event/suwannee-county-food-bank-24/
LOCATION:First Baptist Church\, 401 West Howard Street\, Live Oak\, FL\, 32064\, United States
CATEGORIES:Suwannee County
END:VEVENT
BEGIN:VEVENT
DTSTART;VALUE=DATE:20241125
DTEND;VALUE=DATE:20241126
DTSTAMP:20260419T100300
CREATED:20240910T053300Z
LAST-MODIFIED:20240910T053300Z
UID:10000079-1732492800-1732579199@livinghope1.com
SUMMARY:Suwannee County Food Bank
DESCRIPTION:
URL:https://livinghope1.com/living-hope-calender-event/suwannee-county-food-bank-23/
LOCATION:First Baptist Church\, 401 West Howard Street\, Live Oak\, FL\, 32064\, United States
CATEGORIES:Suwannee County
END:VEVENT
BEGIN:VEVENT
DTSTART;TZID=America/New_York:20241122T120000
DTEND;TZID=America/New_York:20241122T130000
DTSTAMP:20260419T100300
CREATED:20240909T182454Z
LAST-MODIFIED:20240909T182626Z
UID:10000049-1732276800-1732280400@livinghope1.com
SUMMARY:Health and Wellness Series - Prediabetes/Diabetes
DESCRIPTION:
URL:https://livinghope1.com/living-hope-calender-event/health-and-wellness-series-prediabetes-diabetes/
LOCATION:Live Oak Library\, 1848 Ohio Ave S\, Live Oak\, FL\, 32064\, United States
CATEGORIES:Suwannee County
END:VEVENT
BEGIN:VEVENT
DTSTART;TZID=America/New_York:20241121T160000
DTEND;TZID=America/New_York:20241121T160000
DTSTAMP:20260419T100300
CREATED:20240910T061624Z
LAST-MODIFIED:20240910T061624Z
UID:10000112-1732204800-1732204800@livinghope1.com
SUMMARY:Suwannee County Food Bank
DESCRIPTION:
URL:https://livinghope1.com/living-hope-calender-event/suwannee-county-food-bank-55/
LOCATION:Evergreen Baptist Church of God\, 2509 224 St\, Lake City\, FL\, 32024\, United States
CATEGORIES:Suwannee County
END:VEVENT
BEGIN:VEVENT
DTSTART;TZID=America/New_York:20241120T093000
DTEND;TZID=America/New_York:20241120T093000
DTSTAMP:20260419T100300
CREATED:20240910T060226Z
LAST-MODIFIED:20240910T060226Z
UID:10000099-1732095000-1732095000@livinghope1.com
SUMMARY:Suwannee County Food Bank
DESCRIPTION:
URL:https://livinghope1.com/living-hope-calender-event/suwannee-county-food-bank-43/
LOCATION:St. Francis Xavier Catholic Church\, 928 E Howard St.\, Live Oak\, FL\, 32064\, United States
CATEGORIES:Suwannee County
END:VEVENT
BEGIN:VEVENT
DTSTART;VALUE=DATE:20241120
DTEND;VALUE=DATE:20241121
DTSTAMP:20260419T100300
CREATED:20240910T053136Z
LAST-MODIFIED:20240910T053136Z
UID:10000078-1732060800-1732147199@livinghope1.com
SUMMARY:Suwannee County Food Bank
DESCRIPTION:
URL:https://livinghope1.com/living-hope-calender-event/suwannee-county-food-bank-22/
LOCATION:First Baptist Church\, 401 West Howard Street\, Live Oak\, FL\, 32064\, United States
CATEGORIES:Suwannee County
END:VEVENT
BEGIN:VEVENT
DTSTART;TZID=America/New_York:20241119T100000
DTEND;TZID=America/New_York:20241119T130000
DTSTAMP:20260419T100300
CREATED:20240910T061356Z
LAST-MODIFIED:20240910T061356Z
UID:10000109-1732010400-1732021200@livinghope1.com
SUMMARY:Suwannee County Food Bank
DESCRIPTION:
URL:https://livinghope1.com/living-hope-calender-event/suwannee-county-food-bank-52/
LOCATION:O’Brien Baptist Church\, 9544 E CR 349\, O'Brien\, Florida\, 32094\, United States
CATEGORIES:Suwannee County
END:VEVENT
BEGIN:VEVENT
DTSTART;TZID=America/New_York:20241119T090000
DTEND;TZID=America/New_York:20241119T090000
DTSTAMP:20260419T100300
CREATED:20240910T053822Z
LAST-MODIFIED:20240910T053822Z
UID:10000083-1732006800-1732006800@livinghope1.com
SUMMARY:Suwannee County Food Bank
DESCRIPTION:
URL:https://livinghope1.com/living-hope-calender-event/suwannee-county-food-bank-27/
LOCATION:Gethsemane Church of God in Christ\, 1018 Duval St NE\, Live Oak\, FL\, 32064\, United States
CATEGORIES:Suwannee County
END:VEVENT
BEGIN:VEVENT
DTSTART;TZID=America/New_York:20241118T080000
DTEND;TZID=America/New_York:20241121T170000
DTSTAMP:20260419T100300
CREATED:20240910T055627Z
LAST-MODIFIED:20240910T055627Z
UID:10000096-1731916800-1732208400@livinghope1.com
SUMMARY:Suwannee County Food Bank
DESCRIPTION:
URL:https://livinghope1.com/living-hope-calender-event/suwannee-county-food-bank-40/
LOCATION:LOVE\, INC\, 120 Ohio Ave N.\, Live Oak\, FL\, 32064\, United States
CATEGORIES:Suwannee County
END:VEVENT
BEGIN:VEVENT
DTSTART;TZID=America/New_York:20241118T080000
DTEND;TZID=America/New_York:20241118T170000
DTSTAMP:20260419T100300
CREATED:20240910T053119Z
LAST-MODIFIED:20240910T053204Z
UID:10000077-1731916800-1731949200@livinghope1.com
SUMMARY:Suwannee County Food Bank
DESCRIPTION:
URL:https://livinghope1.com/living-hope-calender-event/suwannee-county-food-bank-21/
LOCATION:First Baptist Church\, 401 West Howard Street\, Live Oak\, FL\, 32064\, United States
CATEGORIES:Suwannee County
END:VEVENT
BEGIN:VEVENT
DTSTART;TZID=America/New_York:20241115T120000
DTEND;TZID=America/New_York:20241115T130000
DTSTAMP:20260419T100300
CREATED:20240909T193437Z
LAST-MODIFIED:20240909T193437Z
UID:10000055-1731672000-1731675600@livinghope1.com
SUMMARY:Health and Wellness Series - Prediabetes/Diabetes
DESCRIPTION:
URL:https://livinghope1.com/living-hope-calender-event/health-and-wellness-series-prediabetes-diabetes-2/
LOCATION:Dowling Park Library\, 10655 Dowling Park Dr.\, Dowling Park\, FL\, 32064\, United States
CATEGORIES:Suwannee County
END:VEVENT
BEGIN:VEVENT
DTSTART;TZID=America/New_York:20241115T120000
DTEND;TZID=America/New_York:20241115T130000
DTSTAMP:20260419T100300
CREATED:20240909T182610Z
LAST-MODIFIED:20240909T182610Z
UID:10000050-1731672000-1731675600@livinghope1.com
SUMMARY:Health and Wellness Series - High Cholesterol
DESCRIPTION:
URL:https://livinghope1.com/living-hope-calender-event/health-and-wellness-series-high-cholesterol/
LOCATION:Live Oak Library\, 1848 Ohio Ave S\, Live Oak\, FL\, 32064\, United States
CATEGORIES:Suwannee County
END:VEVENT
BEGIN:VEVENT
DTSTART;TZID=America/New_York:20241115T090000
DTEND;TZID=America/New_York:20241115T090000
DTSTAMP:20260419T100300
CREATED:20240910T054101Z
LAST-MODIFIED:20240910T054101Z
UID:10000086-1731661200-1731661200@livinghope1.com
SUMMARY:Suwannee County Food Bank
DESCRIPTION:
URL:https://livinghope1.com/living-hope-calender-event/suwannee-county-food-bank-30/
LOCATION:Live Oak African Baptist Church\, 502 Walker Ave\, Live Oak\, FL\, 32064\, United States
CATEGORIES:Suwannee County
END:VEVENT
BEGIN:VEVENT
DTSTART;VALUE=DATE:20241115
DTEND;VALUE=DATE:20241116
DTSTAMP:20260419T100300
CREATED:20240910T061027Z
LAST-MODIFIED:20240910T061027Z
UID:10000106-1731628800-1731715199@livinghope1.com
SUMMARY:Suwannee County Food Bank
DESCRIPTION:No papers required.
URL:https://livinghope1.com/living-hope-calender-event/suwannee-county-food-bank-49/
LOCATION:San Juan Missions\, 304 Plant Ave SW\, Branford\, FL\, 32008\, United States
CATEGORIES:Suwannee County
END:VEVENT
BEGIN:VEVENT
DTSTART;TZID=America/New_York:20241113T080000
DTEND;TZID=America/New_York:20241113T170000
DTSTAMP:20260419T100300
CREATED:20240910T052951Z
LAST-MODIFIED:20240910T053215Z
UID:10000076-1731484800-1731517200@livinghope1.com
SUMMARY:Suwannee County Food Bank
DESCRIPTION:
URL:https://livinghope1.com/living-hope-calender-event/suwannee-county-food-bank-20/
LOCATION:First Baptist Church\, 401 West Howard Street\, Live Oak\, FL\, 32064\, United States
CATEGORIES:Suwannee County
END:VEVENT
END:VCALENDAR