BEGIN:VCALENDAR
VERSION:2.0
PRODID:-//livinghope1.com - ECPv6.15.16//NONSGML v1.0//EN
CALSCALE:GREGORIAN
METHOD:PUBLISH
X-ORIGINAL-URL:https://livinghope1.com
X-WR-CALDESC:Events for livinghope1.com
REFRESH-INTERVAL;VALUE=DURATION:PT1H
X-Robots-Tag:noindex
X-PUBLISHED-TTL:PT1H
BEGIN:VTIMEZONE
TZID:America/New_York
BEGIN:DAYLIGHT
TZOFFSETFROM:-0500
TZOFFSETTO:-0400
TZNAME:EDT
DTSTART:20230312T070000
END:DAYLIGHT
BEGIN:STANDARD
TZOFFSETFROM:-0400
TZOFFSETTO:-0500
TZNAME:EST
DTSTART:20231105T060000
END:STANDARD
BEGIN:DAYLIGHT
TZOFFSETFROM:-0500
TZOFFSETTO:-0400
TZNAME:EDT
DTSTART:20240310T070000
END:DAYLIGHT
BEGIN:STANDARD
TZOFFSETFROM:-0400
TZOFFSETTO:-0500
TZNAME:EST
DTSTART:20241103T060000
END:STANDARD
BEGIN:DAYLIGHT
TZOFFSETFROM:-0500
TZOFFSETTO:-0400
TZNAME:EDT
DTSTART:20250309T070000
END:DAYLIGHT
BEGIN:STANDARD
TZOFFSETFROM:-0400
TZOFFSETTO:-0500
TZNAME:EST
DTSTART:20251102T060000
END:STANDARD
END:VTIMEZONE
BEGIN:VEVENT
DTSTART;VALUE=DATE:20241023
DTEND;VALUE=DATE:20241024
DTSTAMP:20260419T162645
CREATED:20240910T052429Z
LAST-MODIFIED:20240910T052429Z
UID:10000070-1729641600-1729727999@livinghope1.com
SUMMARY:Suwannee County Food Bank
DESCRIPTION:
URL:https://livinghope1.com/living-hope-calender-event/suwannee-county-food-bank-14/
LOCATION:First Baptist Church\, 401 West Howard Street\, Live Oak\, FL\, 32064\, United States
CATEGORIES:Suwannee County
END:VEVENT
BEGIN:VEVENT
DTSTART;VALUE=DATE:20241023
DTEND;VALUE=DATE:20241024
DTSTAMP:20260419T162645
CREATED:20240910T052348Z
LAST-MODIFIED:20240910T052626Z
UID:10000069-1729641600-1729727999@livinghope1.com
SUMMARY:Suwannee County Food Bank
DESCRIPTION:
URL:https://livinghope1.com/living-hope-calender-event/suwannee-county-food-bank-13/
LOCATION:First Baptist Church\, 401 West Howard Street\, Live Oak\, FL\, 32064\, United States
CATEGORIES:Suwannee County
END:VEVENT
BEGIN:VEVENT
DTSTART;TZID=America/New_York:20241021T090000
DTEND;TZID=America/New_York:20241024T130000
DTSTAMP:20260419T162645
CREATED:20240910T054703Z
LAST-MODIFIED:20240910T055420Z
UID:10000091-1729501200-1729774800@livinghope1.com
SUMMARY:Suwannee County Food Bank
DESCRIPTION:
URL:https://livinghope1.com/living-hope-calender-event/suwannee-county-food-bank-35/
LOCATION:LOVE\, INC\, 120 Ohio Ave N.\, Live Oak\, FL\, 32064\, United States
CATEGORIES:Suwannee County
END:VEVENT
BEGIN:VEVENT
DTSTART;VALUE=DATE:20241021
DTEND;VALUE=DATE:20241022
DTSTAMP:20260419T162645
CREATED:20240910T052332Z
LAST-MODIFIED:20240910T052332Z
UID:10000068-1729468800-1729555199@livinghope1.com
SUMMARY:Suwannee County Food Bank
DESCRIPTION:
URL:https://livinghope1.com/living-hope-calender-event/suwannee-county-food-bank-12/
LOCATION:First Baptist Church\, 401 West Howard Street\, Live Oak\, FL\, 32064\, United States
CATEGORIES:Suwannee County
END:VEVENT
BEGIN:VEVENT
DTSTART;TZID=America/New_York:20241018T090000
DTEND;TZID=America/New_York:20241018T090000
DTSTAMP:20260419T162645
CREATED:20240910T054017Z
LAST-MODIFIED:20240910T054017Z
UID:10000085-1729242000-1729242000@livinghope1.com
SUMMARY:Suwannee County Food Bank
DESCRIPTION:
URL:https://livinghope1.com/living-hope-calender-event/suwannee-county-food-bank-29/
LOCATION:Live Oak African Baptist Church\, 502 Walker Ave\, Live Oak\, FL\, 32064\, United States
CATEGORIES:Suwannee County
END:VEVENT
BEGIN:VEVENT
DTSTART;VALUE=DATE:20241018
DTEND;VALUE=DATE:20241019
DTSTAMP:20260419T162645
CREATED:20240910T060950Z
LAST-MODIFIED:20240910T060950Z
UID:10000105-1729209600-1729295999@livinghope1.com
SUMMARY:Suwannee County Food Bank
DESCRIPTION:No papers required.
URL:https://livinghope1.com/living-hope-calender-event/suwannee-county-food-bank-48/
LOCATION:San Juan Missions\, 304 Plant Ave SW\, Branford\, FL\, 32008\, United States
CATEGORIES:Suwannee County
END:VEVENT
BEGIN:VEVENT
DTSTART;TZID=America/New_York:20241017T160000
DTEND;TZID=America/New_York:20241017T160000
DTSTAMP:20260419T162645
CREATED:20240910T061555Z
LAST-MODIFIED:20240910T061555Z
UID:10000111-1729180800-1729180800@livinghope1.com
SUMMARY:Suwannee County Food Bank
DESCRIPTION:
URL:https://livinghope1.com/living-hope-calender-event/suwannee-county-food-bank-54/
LOCATION:Evergreen Baptist Church of God\, 2509 224 St\, Lake City\, FL\, 32024\, United States
CATEGORIES:Suwannee County
END:VEVENT
BEGIN:VEVENT
DTSTART;TZID=America/New_York:20241016T093000
DTEND;TZID=America/New_York:20241016T093000
DTSTAMP:20260419T162645
CREATED:20240910T060202Z
LAST-MODIFIED:20240910T060202Z
UID:10000098-1729071000-1729071000@livinghope1.com
SUMMARY:Suwannee County Food Bank
DESCRIPTION:
URL:https://livinghope1.com/living-hope-calender-event/suwannee-county-food-bank-42/
LOCATION:St. Francis Xavier Catholic Church\, 928 E Howard St.\, Live Oak\, FL\, 32064\, United States
CATEGORIES:Suwannee County
END:VEVENT
BEGIN:VEVENT
DTSTART;TZID=America/New_York:20241016T080000
DTEND;TZID=America/New_York:20241016T170000
DTSTAMP:20260419T162645
CREATED:20240910T052308Z
LAST-MODIFIED:20240910T052308Z
UID:10000067-1729065600-1729098000@livinghope1.com
SUMMARY:Suwannee County Food Bank
DESCRIPTION:
URL:https://livinghope1.com/living-hope-calender-event/suwannee-county-food-bank-11/
LOCATION:First Baptist Church\, 401 West Howard Street\, Live Oak\, FL\, 32064\, United States
CATEGORIES:Suwannee County
END:VEVENT
BEGIN:VEVENT
DTSTART;TZID=America/New_York:20241015T100000
DTEND;TZID=America/New_York:20241015T130000
DTSTAMP:20260419T162645
CREATED:20240910T061328Z
LAST-MODIFIED:20240910T061328Z
UID:10000108-1728986400-1728997200@livinghope1.com
SUMMARY:Suwannee County Food Bank
DESCRIPTION:
URL:https://livinghope1.com/living-hope-calender-event/suwannee-county-food-bank-51/
LOCATION:O’Brien Baptist Church\, 9544 E CR 349\, O'Brien\, Florida\, 32094\, United States
CATEGORIES:Suwannee County
END:VEVENT
BEGIN:VEVENT
DTSTART;TZID=America/New_York:20241015T090000
DTEND;TZID=America/New_York:20241015T090000
DTSTAMP:20260419T162645
CREATED:20240910T053741Z
LAST-MODIFIED:20240910T053741Z
UID:10000082-1728982800-1728982800@livinghope1.com
SUMMARY:Suwannee County Food Bank
DESCRIPTION:
URL:https://livinghope1.com/living-hope-calender-event/suwannee-county-food-bank-26/
LOCATION:Gethsemane Church of God in Christ\, 1018 Duval St NE\, Live Oak\, FL\, 32064\, United States
CATEGORIES:Suwannee County
END:VEVENT
BEGIN:VEVENT
DTSTART;VALUE=DATE:20241014
DTEND;VALUE=DATE:20241015
DTSTAMP:20260419T162645
CREATED:20240910T052245Z
LAST-MODIFIED:20240910T052245Z
UID:10000066-1728864000-1728950399@livinghope1.com
SUMMARY:Suwannee County Food Bank
DESCRIPTION:
URL:https://livinghope1.com/living-hope-calender-event/suwannee-county-food-bank-10/
LOCATION:First Baptist Church\, 401 West Howard Street\, Live Oak\, FL\, 32064\, United States
CATEGORIES:Suwannee County
END:VEVENT
BEGIN:VEVENT
DTSTART;TZID=America/New_York:20241009T110000
DTEND;TZID=America/New_York:20241009T110000
DTSTAMP:20260419T162645
CREATED:20240910T060650Z
LAST-MODIFIED:20240910T060650Z
UID:10000102-1728471600-1728471600@livinghope1.com
SUMMARY:Suwannee County Food Bank
DESCRIPTION:$7 donation requested – Please Bring your own basket
URL:https://livinghope1.com/living-hope-calender-event/suwannee-county-food-bank-45/
LOCATION:Children’s Table Bus @ Lebanon\, 6114 280th St\, Branford\, FL\, 32008\, United States
CATEGORIES:Suwannee County
END:VEVENT
BEGIN:VEVENT
DTSTART;VALUE=DATE:20241009
DTEND;VALUE=DATE:20241010
DTSTAMP:20260419T162645
CREATED:20240910T052210Z
LAST-MODIFIED:20240910T052210Z
UID:10000065-1728432000-1728518399@livinghope1.com
SUMMARY:Suwannee County Food Bank
DESCRIPTION:
URL:https://livinghope1.com/living-hope-calender-event/suwannee-county-food-bank-9/
LOCATION:First Baptist Church\, 401 West Howard Street\, Live Oak\, FL\, 32064\, United States
CATEGORIES:Suwannee County
END:VEVENT
BEGIN:VEVENT
DTSTART;TZID=America/New_York:20241007T090000
DTEND;TZID=America/New_York:20241107T130000
DTSTAMP:20260419T162645
CREATED:20240910T054622Z
LAST-MODIFIED:20240910T054622Z
UID:10000090-1728291600-1730984400@livinghope1.com
SUMMARY:Suwannee County Food Bank
DESCRIPTION:
URL:https://livinghope1.com/living-hope-calender-event/suwannee-county-food-bank-34/
LOCATION:LOVE\, INC\, 120 Ohio Ave N.\, Live Oak\, FL\, 32064\, United States
CATEGORIES:Suwannee County
END:VEVENT
BEGIN:VEVENT
DTSTART;VALUE=DATE:20241007
DTEND;VALUE=DATE:20241008
DTSTAMP:20260419T162645
CREATED:20240910T052154Z
LAST-MODIFIED:20240910T052154Z
UID:10000064-1728259200-1728345599@livinghope1.com
SUMMARY:Suwannee County Food Bank
DESCRIPTION:
URL:https://livinghope1.com/living-hope-calender-event/suwannee-county-food-bank-8/
LOCATION:First Baptist Church\, 401 West Howard Street\, Live Oak\, FL\, 32064\, United States
CATEGORIES:Suwannee County
END:VEVENT
BEGIN:VEVENT
DTSTART;TZID=America/New_York:20241004T130000
DTEND;TZID=America/New_York:20241004T140000
DTSTAMP:20260419T162645
CREATED:20240909T182344Z
LAST-MODIFIED:20240909T182344Z
UID:10000048-1728046800-1728050400@livinghope1.com
SUMMARY:Health and Wellness Series - High Blood Pressure
DESCRIPTION:
URL:https://livinghope1.com/living-hope-calender-event/health-and-wellness-series-high-blood-pressure/
LOCATION:Live Oak Library\, 1848 Ohio Ave S\, Live Oak\, FL\, 32064\, United States
CATEGORIES:Suwannee County
END:VEVENT
BEGIN:VEVENT
DTSTART;TZID=America/New_York:20241002T080000
DTEND;TZID=America/New_York:20241002T170000
DTSTAMP:20260419T162645
CREATED:20240910T052006Z
LAST-MODIFIED:20240910T052113Z
UID:10000063-1727856000-1727888400@livinghope1.com
SUMMARY:Suwannee County Food Bank
DESCRIPTION:
URL:https://livinghope1.com/living-hope-calender-event/suwannee-county-food-bank-7/
LOCATION:First Baptist Church\, 401 West Howard Street\, Live Oak\, FL\, 32064\, United States
CATEGORIES:Suwannee County
END:VEVENT
BEGIN:VEVENT
DTSTART;TZID=America/New_York:20241001T120000
DTEND;TZID=America/New_York:20241001T130000
DTSTAMP:20260419T162645
CREATED:20240909T182712Z
LAST-MODIFIED:20240909T193009Z
UID:10000051-1727784000-1727787600@livinghope1.com
SUMMARY:Health and Wellness Series - High Blood Pressure
DESCRIPTION:
URL:https://livinghope1.com/living-hope-calender-event/health-and-wellness-series-high-blood-pressure-2/
LOCATION:Dowling Park Library\, 10655 Dowling Park Dr.\, Dowling Park\, FL\, 32064\, United States
CATEGORIES:Suwannee County
END:VEVENT
BEGIN:VEVENT
DTSTART;TZID=America/New_York:20240930T090000
DTEND;TZID=America/New_York:20241003T130000
DTSTAMP:20260419T162645
CREATED:20240910T055022Z
LAST-MODIFIED:20240910T055022Z
UID:10000092-1727686800-1727960400@livinghope1.com
SUMMARY:Suwannee County Food Bank
DESCRIPTION:
URL:https://livinghope1.com/living-hope-calender-event/suwannee-county-food-bank-36/
LOCATION:LOVE\, INC\, 120 Ohio Ave N.\, Live Oak\, FL\, 32064\, United States
CATEGORIES:Suwannee County
END:VEVENT
BEGIN:VEVENT
DTSTART;TZID=America/New_York:20240930T080000
DTEND;TZID=America/New_York:20240930T170000
DTSTAMP:20260419T162645
CREATED:20240910T051953Z
LAST-MODIFIED:20240910T052101Z
UID:10000062-1727683200-1727715600@livinghope1.com
SUMMARY:Suwannee County Food Bank
DESCRIPTION:
URL:https://livinghope1.com/living-hope-calender-event/suwannee-county-food-bank-6/
LOCATION:First Baptist Church\, 401 West Howard Street\, Live Oak\, FL\, 32064\, United States
CATEGORIES:Suwannee County
END:VEVENT
BEGIN:VEVENT
DTSTART;VALUE=DATE:20240925
DTEND;VALUE=DATE:20240926
DTSTAMP:20260419T162645
CREATED:20240910T051919Z
LAST-MODIFIED:20240910T052058Z
UID:10000061-1727222400-1727308799@livinghope1.com
SUMMARY:Suwannee County Food Bank
DESCRIPTION:
URL:https://livinghope1.com/living-hope-calender-event/suwannee-county-food-bank-5/
LOCATION:First Baptist Church\, 401 West Howard Street\, Live Oak\, FL\, 32064\, United States
CATEGORIES:Suwannee County
END:VEVENT
BEGIN:VEVENT
DTSTART;TZID=America/New_York:20240924T120000
DTEND;TZID=America/New_York:20240924T130000
DTSTAMP:20260419T162645
CREATED:20240909T193506Z
LAST-MODIFIED:20240910T060105Z
UID:10000056-1727179200-1727182800@livinghope1.com
SUMMARY:Health and Wellness Series - Prediabetes/Diabetes
DESCRIPTION:
URL:https://livinghope1.com/living-hope-calender-event/health-and-wellness-series-prediabetes-diabetes-3/
LOCATION:Branford Public Library\, 703 Suwannee Ave NW\, Branford\, 32008\, United States
CATEGORIES:Suwannee County
END:VEVENT
BEGIN:VEVENT
DTSTART;TZID=America/New_York:20240923T090000
DTEND;TZID=America/New_York:20240926T130000
DTSTAMP:20260419T162645
CREATED:20240910T054355Z
LAST-MODIFIED:20240910T054932Z
UID:10000089-1727082000-1727355600@livinghope1.com
SUMMARY:Suwannee County Food Bank
DESCRIPTION:
URL:https://livinghope1.com/living-hope-calender-event/suwannee-county-food-bank-33/
LOCATION:LOVE\, INC\, 120 Ohio Ave N.\, Live Oak\, FL\, 32064\, United States
CATEGORIES:Suwannee County
END:VEVENT
BEGIN:VEVENT
DTSTART;VALUE=DATE:20240923
DTEND;VALUE=DATE:20240924
DTSTAMP:20260419T162645
CREATED:20240910T051829Z
LAST-MODIFIED:20240910T052056Z
UID:10000060-1727049600-1727135999@livinghope1.com
SUMMARY:Suwannee County Food Bank
DESCRIPTION:
URL:https://livinghope1.com/living-hope-calender-event/suwannee-county-food-bank-4/
LOCATION:FL
CATEGORIES:Suwannee County
END:VEVENT
BEGIN:VEVENT
DTSTART;TZID=America/New_York:20240921T080000
DTEND;TZID=America/New_York:20240921T113000
DTSTAMP:20260419T162645
CREATED:20240912T031610Z
LAST-MODIFIED:20240912T031610Z
UID:10000113-1726905600-1726918200@livinghope1.com
SUMMARY:Farm Share Food Giveaway
DESCRIPTION:🗓Event Date: Sat\, Sept 21\, 2024\n🚗This is a Drive-Thru event.\n👥Up to 3 families are permitted in each vehicle. For example\, you\, your neighbor\, and someone you know who doesn’t have a vehicle.\n☝️Only one representative from each family is necessary.\n🚼Children of families are NOT required to attend.\n🏠 Household size does not change the amount of food received. A family of 1 will receive the same items as a family of 4.\n🖊️Each family representative will provide their name\, address\, and household size.\nThe line starts behind the Public Safety Building on NW Alachua Ave and continues on NW Washington St to Memorial Stadium overflow lot where vehicles will\nline up in rows.\n☀️Historicily\, attendees have arrived early and started lining up as early as 5am.\nFood distribution begins at 8am and continues until all items are gone.\nAll items are first come first served.\n🚚The kind of items and amounts are unknown until event day. More of some items are received than others.\n⛑️For safety reasons walk-ups are not possible.
URL:https://livinghope1.com/living-hope-calender-event/farm-share-food-giveaway/
LOCATION:Lake City Police Department\, 225 NW Main Blvd\, Lake City\, FL\, 32055\, United States
CATEGORIES:Columbia County
ORGANIZER;CN="Lake City Police Department":MAILTO:HardisonA@lcflapd.com
END:VEVENT
BEGIN:VEVENT
DTSTART;TZID=America/New_York:20240920T090000
DTEND;TZID=America/New_York:20240920T090000
DTSTAMP:20260419T162645
CREATED:20240910T053948Z
LAST-MODIFIED:20240910T053948Z
UID:10000084-1726822800-1726822800@livinghope1.com
SUMMARY:Suwannee County Food Bank
DESCRIPTION:
URL:https://livinghope1.com/living-hope-calender-event/suwannee-county-food-bank-28/
LOCATION:Live Oak African Baptist Church\, 502 Walker Ave\, Live Oak\, FL\, 32064\, United States
CATEGORIES:Suwannee County
END:VEVENT
BEGIN:VEVENT
DTSTART;VALUE=DATE:20240920
DTEND;VALUE=DATE:20240921
DTSTAMP:20260419T162645
CREATED:20240910T060859Z
LAST-MODIFIED:20240910T060910Z
UID:10000104-1726790400-1726876799@livinghope1.com
SUMMARY:Suwannee County Food Bank
DESCRIPTION:No papers required
URL:https://livinghope1.com/living-hope-calender-event/suwannee-county-food-bank-47/
LOCATION:San Juan Missions\, 304 Plant Ave SW\, Branford\, FL\, 32008\, United States
CATEGORIES:Suwannee County
END:VEVENT
BEGIN:VEVENT
DTSTART;TZID=America/New_York:20240919T160000
DTEND;TZID=America/New_York:20240919T160000
DTSTAMP:20260419T162645
CREATED:20240910T061520Z
LAST-MODIFIED:20240910T061520Z
UID:10000110-1726761600-1726761600@livinghope1.com
SUMMARY:Suwannee County Food Bank
DESCRIPTION:
URL:https://livinghope1.com/living-hope-calender-event/suwannee-county-food-bank-53/
LOCATION:Evergreen Baptist Church of God\, 2509 224 St\, Lake City\, FL\, 32024\, United States
CATEGORIES:Suwannee County
END:VEVENT
BEGIN:VEVENT
DTSTART;TZID=America/New_York:20240918T093000
DTEND;TZID=America/New_York:20240918T093000
DTSTAMP:20260419T162645
CREATED:20240910T055648Z
LAST-MODIFIED:20240910T055851Z
UID:10000097-1726651800-1726651800@livinghope1.com
SUMMARY:Suwannee County Food Bank
DESCRIPTION:
URL:https://livinghope1.com/living-hope-calender-event/suwannee-county-food-bank-41/
LOCATION:St. Francis Xavier Catholic Church\, 928 E Howard St.\, Live Oak\, FL\, 32064\, United States
CATEGORIES:Suwannee County
END:VEVENT
END:VCALENDAR