BEGIN:VCALENDAR
VERSION:2.0
PRODID:-//livinghope1.com - ECPv6.15.16//NONSGML v1.0//EN
CALSCALE:GREGORIAN
METHOD:PUBLISH
X-ORIGINAL-URL:https://livinghope1.com
X-WR-CALDESC:Events for livinghope1.com
REFRESH-INTERVAL;VALUE=DURATION:PT1H
X-Robots-Tag:noindex
X-PUBLISHED-TTL:PT1H
BEGIN:VTIMEZONE
TZID:America/New_York
BEGIN:DAYLIGHT
TZOFFSETFROM:-0500
TZOFFSETTO:-0400
TZNAME:EDT
DTSTART:20260308T070000
END:DAYLIGHT
BEGIN:STANDARD
TZOFFSETFROM:-0400
TZOFFSETTO:-0500
TZNAME:EST
DTSTART:20261101T060000
END:STANDARD
BEGIN:DAYLIGHT
TZOFFSETFROM:-0500
TZOFFSETTO:-0400
TZNAME:EDT
DTSTART:20270314T070000
END:DAYLIGHT
BEGIN:STANDARD
TZOFFSETFROM:-0400
TZOFFSETTO:-0500
TZNAME:EST
DTSTART:20271107T060000
END:STANDARD
BEGIN:DAYLIGHT
TZOFFSETFROM:-0500
TZOFFSETTO:-0400
TZNAME:EDT
DTSTART:20280312T070000
END:DAYLIGHT
BEGIN:STANDARD
TZOFFSETFROM:-0400
TZOFFSETTO:-0500
TZNAME:EST
DTSTART:20281105T060000
END:STANDARD
END:VTIMEZONE
BEGIN:VEVENT
DTSTART;TZID=America/New_York:20270125T100000
DTEND;TZID=America/New_York:20270125T110000
DTSTAMP:20260419T132502
CREATED:20260113T062455Z
LAST-MODIFIED:20260113T062455Z
UID:10000249-1800871200-1800874800@livinghope1.com
SUMMARY:Life's Storms Group - Gateway
DESCRIPTION:Our Beyond Disaster Group is back for the new year! Join us at Gateway Baptist Church in Lake City each Monday at 10:00 am.\n\n\nLed by trained facilitators\, this group uses the “Beyond Disaster” guide to provide spiritual first aid and practical trauma recovery tools.\nAddress anxiety\, grief\, and trauma reactions while building resilience and finding hope in community.\n\n\n\n Adults 18+\n No registration required\n Questions? Call (386) 302 – 6990
URL:https://livinghope1.com/living-hope-calender-event/lifes-storms-group-gateway/2027-01-25/
LOCATION:Gateway Baptist Church\, 3252 FL-247\, Lake city\, FL\, 32024\, United States
CATEGORIES:Columbia County
ORGANIZER;CN="Project Cope and Living Hope":MAILTO:barbara@livinghope1.com
END:VEVENT
BEGIN:VEVENT
DTSTART;TZID=America/New_York:20270201T100000
DTEND;TZID=America/New_York:20270201T110000
DTSTAMP:20260419T132502
CREATED:20260113T062455Z
LAST-MODIFIED:20260113T062455Z
UID:10000250-1801476000-1801479600@livinghope1.com
SUMMARY:Life's Storms Group - Gateway
DESCRIPTION:Our Beyond Disaster Group is back for the new year! Join us at Gateway Baptist Church in Lake City each Monday at 10:00 am.\n\n\nLed by trained facilitators\, this group uses the “Beyond Disaster” guide to provide spiritual first aid and practical trauma recovery tools.\nAddress anxiety\, grief\, and trauma reactions while building resilience and finding hope in community.\n\n\n\n Adults 18+\n No registration required\n Questions? Call (386) 302 – 6990
URL:https://livinghope1.com/living-hope-calender-event/lifes-storms-group-gateway/2027-02-01/
LOCATION:Gateway Baptist Church\, 3252 FL-247\, Lake city\, FL\, 32024\, United States
CATEGORIES:Columbia County
ORGANIZER;CN="Project Cope and Living Hope":MAILTO:barbara@livinghope1.com
END:VEVENT
BEGIN:VEVENT
DTSTART;TZID=America/New_York:20270208T100000
DTEND;TZID=America/New_York:20270208T110000
DTSTAMP:20260419T132502
CREATED:20260113T062455Z
LAST-MODIFIED:20260113T062455Z
UID:10000251-1802080800-1802084400@livinghope1.com
SUMMARY:Life's Storms Group - Gateway
DESCRIPTION:Our Beyond Disaster Group is back for the new year! Join us at Gateway Baptist Church in Lake City each Monday at 10:00 am.\n\n\nLed by trained facilitators\, this group uses the “Beyond Disaster” guide to provide spiritual first aid and practical trauma recovery tools.\nAddress anxiety\, grief\, and trauma reactions while building resilience and finding hope in community.\n\n\n\n Adults 18+\n No registration required\n Questions? Call (386) 302 – 6990
URL:https://livinghope1.com/living-hope-calender-event/lifes-storms-group-gateway/2027-02-08/
LOCATION:Gateway Baptist Church\, 3252 FL-247\, Lake city\, FL\, 32024\, United States
CATEGORIES:Columbia County
ORGANIZER;CN="Project Cope and Living Hope":MAILTO:barbara@livinghope1.com
END:VEVENT
BEGIN:VEVENT
DTSTART;TZID=America/New_York:20270215T100000
DTEND;TZID=America/New_York:20270215T110000
DTSTAMP:20260419T132502
CREATED:20260113T062455Z
LAST-MODIFIED:20260113T062455Z
UID:10000252-1802685600-1802689200@livinghope1.com
SUMMARY:Life's Storms Group - Gateway
DESCRIPTION:Our Beyond Disaster Group is back for the new year! Join us at Gateway Baptist Church in Lake City each Monday at 10:00 am.\n\n\nLed by trained facilitators\, this group uses the “Beyond Disaster” guide to provide spiritual first aid and practical trauma recovery tools.\nAddress anxiety\, grief\, and trauma reactions while building resilience and finding hope in community.\n\n\n\n Adults 18+\n No registration required\n Questions? Call (386) 302 – 6990
URL:https://livinghope1.com/living-hope-calender-event/lifes-storms-group-gateway/2027-02-15/
LOCATION:Gateway Baptist Church\, 3252 FL-247\, Lake city\, FL\, 32024\, United States
CATEGORIES:Columbia County
ORGANIZER;CN="Project Cope and Living Hope":MAILTO:barbara@livinghope1.com
END:VEVENT
BEGIN:VEVENT
DTSTART;TZID=America/New_York:20270222T100000
DTEND;TZID=America/New_York:20270222T110000
DTSTAMP:20260419T132502
CREATED:20260113T062455Z
LAST-MODIFIED:20260113T062455Z
UID:10000253-1803290400-1803294000@livinghope1.com
SUMMARY:Life's Storms Group - Gateway
DESCRIPTION:Our Beyond Disaster Group is back for the new year! Join us at Gateway Baptist Church in Lake City each Monday at 10:00 am.\n\n\nLed by trained facilitators\, this group uses the “Beyond Disaster” guide to provide spiritual first aid and practical trauma recovery tools.\nAddress anxiety\, grief\, and trauma reactions while building resilience and finding hope in community.\n\n\n\n Adults 18+\n No registration required\n Questions? Call (386) 302 – 6990
URL:https://livinghope1.com/living-hope-calender-event/lifes-storms-group-gateway/2027-02-22/
LOCATION:Gateway Baptist Church\, 3252 FL-247\, Lake city\, FL\, 32024\, United States
CATEGORIES:Columbia County
ORGANIZER;CN="Project Cope and Living Hope":MAILTO:barbara@livinghope1.com
END:VEVENT
BEGIN:VEVENT
DTSTART;TZID=America/New_York:20270301T100000
DTEND;TZID=America/New_York:20270301T110000
DTSTAMP:20260419T132502
CREATED:20260113T062455Z
LAST-MODIFIED:20260113T062455Z
UID:10000254-1803895200-1803898800@livinghope1.com
SUMMARY:Life's Storms Group - Gateway
DESCRIPTION:Our Beyond Disaster Group is back for the new year! Join us at Gateway Baptist Church in Lake City each Monday at 10:00 am.\n\n\nLed by trained facilitators\, this group uses the “Beyond Disaster” guide to provide spiritual first aid and practical trauma recovery tools.\nAddress anxiety\, grief\, and trauma reactions while building resilience and finding hope in community.\n\n\n\n Adults 18+\n No registration required\n Questions? Call (386) 302 – 6990
URL:https://livinghope1.com/living-hope-calender-event/lifes-storms-group-gateway/2027-03-01/
LOCATION:Gateway Baptist Church\, 3252 FL-247\, Lake city\, FL\, 32024\, United States
CATEGORIES:Columbia County
ORGANIZER;CN="Project Cope and Living Hope":MAILTO:barbara@livinghope1.com
END:VEVENT
BEGIN:VEVENT
DTSTART;TZID=America/New_York:20270308T100000
DTEND;TZID=America/New_York:20270308T110000
DTSTAMP:20260419T132502
CREATED:20260113T062455Z
LAST-MODIFIED:20260113T062455Z
UID:10000255-1804500000-1804503600@livinghope1.com
SUMMARY:Life's Storms Group - Gateway
DESCRIPTION:Our Beyond Disaster Group is back for the new year! Join us at Gateway Baptist Church in Lake City each Monday at 10:00 am.\n\n\nLed by trained facilitators\, this group uses the “Beyond Disaster” guide to provide spiritual first aid and practical trauma recovery tools.\nAddress anxiety\, grief\, and trauma reactions while building resilience and finding hope in community.\n\n\n\n Adults 18+\n No registration required\n Questions? Call (386) 302 – 6990
URL:https://livinghope1.com/living-hope-calender-event/lifes-storms-group-gateway/2027-03-08/
LOCATION:Gateway Baptist Church\, 3252 FL-247\, Lake city\, FL\, 32024\, United States
CATEGORIES:Columbia County
ORGANIZER;CN="Project Cope and Living Hope":MAILTO:barbara@livinghope1.com
END:VEVENT
BEGIN:VEVENT
DTSTART;TZID=America/New_York:20270315T100000
DTEND;TZID=America/New_York:20270315T110000
DTSTAMP:20260419T132502
CREATED:20260113T062455Z
LAST-MODIFIED:20260113T062455Z
UID:10000256-1805104800-1805108400@livinghope1.com
SUMMARY:Life's Storms Group - Gateway
DESCRIPTION:Our Beyond Disaster Group is back for the new year! Join us at Gateway Baptist Church in Lake City each Monday at 10:00 am.\n\n\nLed by trained facilitators\, this group uses the “Beyond Disaster” guide to provide spiritual first aid and practical trauma recovery tools.\nAddress anxiety\, grief\, and trauma reactions while building resilience and finding hope in community.\n\n\n\n Adults 18+\n No registration required\n Questions? Call (386) 302 – 6990
URL:https://livinghope1.com/living-hope-calender-event/lifes-storms-group-gateway/2027-03-15/
LOCATION:Gateway Baptist Church\, 3252 FL-247\, Lake city\, FL\, 32024\, United States
CATEGORIES:Columbia County
ORGANIZER;CN="Project Cope and Living Hope":MAILTO:barbara@livinghope1.com
END:VEVENT
END:VCALENDAR