BEGIN:VCALENDAR
VERSION:2.0
PRODID:-//livinghope1.com - ECPv6.15.16//NONSGML v1.0//EN
CALSCALE:GREGORIAN
METHOD:PUBLISH
X-WR-CALNAME:livinghope1.com
X-ORIGINAL-URL:https://livinghope1.com
X-WR-CALDESC:Events for livinghope1.com
REFRESH-INTERVAL;VALUE=DURATION:PT1H
X-Robots-Tag:noindex
X-PUBLISHED-TTL:PT1H
BEGIN:VTIMEZONE
TZID:America/New_York
BEGIN:DAYLIGHT
TZOFFSETFROM:-0500
TZOFFSETTO:-0400
TZNAME:EDT
DTSTART:20230312T070000
END:DAYLIGHT
BEGIN:STANDARD
TZOFFSETFROM:-0400
TZOFFSETTO:-0500
TZNAME:EST
DTSTART:20231105T060000
END:STANDARD
BEGIN:DAYLIGHT
TZOFFSETFROM:-0500
TZOFFSETTO:-0400
TZNAME:EDT
DTSTART:20240310T070000
END:DAYLIGHT
BEGIN:STANDARD
TZOFFSETFROM:-0400
TZOFFSETTO:-0500
TZNAME:EST
DTSTART:20241103T060000
END:STANDARD
BEGIN:DAYLIGHT
TZOFFSETFROM:-0500
TZOFFSETTO:-0400
TZNAME:EDT
DTSTART:20250309T070000
END:DAYLIGHT
BEGIN:STANDARD
TZOFFSETFROM:-0400
TZOFFSETTO:-0500
TZNAME:EST
DTSTART:20251102T060000
END:STANDARD
END:VTIMEZONE
BEGIN:VEVENT
DTSTART;TZID=America/New_York:20240609T180000
DTEND;TZID=America/New_York:20240614T200000
DTSTAMP:20260420T064828
CREATED:20240608T002957Z
LAST-MODIFIED:20240608T002957Z
UID:10000043-1717956000-1718395200@livinghope1.com
SUMMARY:VBS - Mt. Olive Baptist Church
DESCRIPTION:Ages: 5yrs – 12th grade
URL:https://livinghope1.com/living-hope-calender-event/vbs-mt-olive-baptist-church/
LOCATION:Mt Olive Baptist Church\, 5314 98th Terrace\, Live Oak\, FL\, 32060\, United States
END:VEVENT
END:VCALENDAR