BEGIN:VCALENDAR
VERSION:2.0
PRODID:-//livinghope1.com - ECPv6.15.16//NONSGML v1.0//EN
CALSCALE:GREGORIAN
METHOD:PUBLISH
X-ORIGINAL-URL:https://livinghope1.com
X-WR-CALDESC:Events for livinghope1.com
REFRESH-INTERVAL;VALUE=DURATION:PT1H
X-Robots-Tag:noindex
X-PUBLISHED-TTL:PT1H
BEGIN:VTIMEZONE
TZID:America/New_York
BEGIN:DAYLIGHT
TZOFFSETFROM:-0500
TZOFFSETTO:-0400
TZNAME:EDT
DTSTART:20230312T070000
END:DAYLIGHT
BEGIN:STANDARD
TZOFFSETFROM:-0400
TZOFFSETTO:-0500
TZNAME:EST
DTSTART:20231105T060000
END:STANDARD
BEGIN:DAYLIGHT
TZOFFSETFROM:-0500
TZOFFSETTO:-0400
TZNAME:EDT
DTSTART:20240310T070000
END:DAYLIGHT
BEGIN:STANDARD
TZOFFSETFROM:-0400
TZOFFSETTO:-0500
TZNAME:EST
DTSTART:20241103T060000
END:STANDARD
BEGIN:DAYLIGHT
TZOFFSETFROM:-0500
TZOFFSETTO:-0400
TZNAME:EDT
DTSTART:20250309T070000
END:DAYLIGHT
BEGIN:STANDARD
TZOFFSETFROM:-0400
TZOFFSETTO:-0500
TZNAME:EST
DTSTART:20251102T060000
END:STANDARD
END:VTIMEZONE
BEGIN:VEVENT
DTSTART;TZID=America/New_York:20240701T090000
DTEND;TZID=America/New_York:20240703T120000
DTSTAMP:20260417T042740
CREATED:20240607T234221Z
LAST-MODIFIED:20240607T234354Z
UID:10000032-1719824400-1720008000@livinghope1.com
SUMMARY:Hometown Heros Cloverbud Day Camp
DESCRIPTION:Location UF/IFAS Extension Office 1143 US Hwy 41 NW\, Jasper\, Florida\nAges 5-8 years\nAMBULANCE\nGuests: Paramedics\, Firefighters\, Law Enforcement Vehicles: ambulance\, firetruck\, police car\nActivities include games\, crafts & story-time.\nPOLICE\nRegistration Required Register at\nhttps://Hometown Heroes.4honline.com\nFor more information\, contact Beth Kerr\, 4-H agent Hamilton County Extension Office\nBUBG\n386-792-1276\nmakerr@ufl.edu\nRegistration Deadline: June 18\, 2024\nAn Equal Opportunity Institution.\nSC700\nThe University of Florida is committed to providing universal access to all of our events. For disability accommodations such as alternate formats of written material\, please contact\nMakerr@UFL.EDU at least 2 weeks in advance.
URL:https://livinghope1.com/living-hope-calender-event/hometown-heros-cloverbud-day-camp/
LOCATION:UF/IFAS Extension Office\, 1143 US Hwy 41 NW\, Jasper\, FL\, 32052\, United States
ATTACH;FMTTYPE=image/jpeg:https://livinghope1.com/wp-content/uploads/2024/06/447701430_122129001434261078_3968911344953607272_n.jpg
END:VEVENT
BEGIN:VEVENT
DTSTART;TZID=America/New_York:20240617T083000
DTEND;TZID=America/New_York:20240621T153000
DTSTAMP:20260417T042740
CREATED:20240607T234711Z
LAST-MODIFIED:20240607T235133Z
UID:10000033-1718613000-1718983800@livinghope1.com
SUMMARY:Water Matters! Day Camp
DESCRIPTION:Learn about water conservation\, the Suwannee River\, and freshwater fish & invertebrates. \nAge\n8 – 12 years\nGuest speakers:\nSuwannee River Water Mgt. District Park Ranger & FWC\nField Trips: \n*Boat Tour of the Okefenokee Swamp:\nthe headwaters of the Suwannee River \n*Fishing for Success @ UF School of Forest\, Fisheries\, and Geomatic Sciences \n(Some changes may occur to accommodate scheduling and availability of guest speakers and field trips.) \nRegistration Required Register at\nhttps://Suwannee River WaterCamp.4honline.com\nFor more information\, contact Beth Kerr\, 4-H agent \nHamilton County Extension Office 386-792-1276 \nmakerr@ufl.edu\nRegistration Deadline: June 3\, 2024\nAn Equal Opportunity Institution.\nThe University of Florida is committed to providing universal access to all of our events.\nFor disability accommodations such as alternate formats of written material\, please contact Makerr@UFL.EDU at least 2 weeks in advance
URL:https://livinghope1.com/living-hope-calender-event/water-matters-day-camp/
LOCATION:UF/IFAS Extension Office\, 1143 US Hwy 41 NW\, Jasper\, FL\, 32052\, United States
ATTACH;FMTTYPE=image/jpeg:https://livinghope1.com/wp-content/uploads/2024/06/447702137_122129001386261078_6760306235694981379_n.jpg
END:VEVENT
END:VCALENDAR